BEGIN:VCALENDAR
VERSION:2.0
PRODID:-//Philippine Academy of Ophthalmology - ECPv6.15.20//NONSGML v1.0//EN
CALSCALE:GREGORIAN
METHOD:PUBLISH
X-ORIGINAL-URL:https://pao.org.ph
X-WR-CALDESC:Events for Philippine Academy of Ophthalmology
REFRESH-INTERVAL;VALUE=DURATION:PT1H
X-Robots-Tag:noindex
X-PUBLISHED-TTL:PT1H
BEGIN:VTIMEZONE
TZID:Asia/Manila
BEGIN:STANDARD
TZOFFSETFROM:+0800
TZOFFSETTO:+0800
TZNAME:PST
DTSTART:20250101T000000
END:STANDARD
END:VTIMEZONE
BEGIN:VEVENT
DTSTART;VALUE=DATE:20260208
DTEND;VALUE=DATE:20260302
DTSTAMP:20260422T123148
CREATED:20260120T100151Z
LAST-MODIFIED:20260120T100349Z
UID:17805-1770508800-1772409599@pao.org.ph
SUMMARY:UP-PGH Basic Course in Phacoemulsification 2026 65th Anniversary Special Edition
DESCRIPTION:Event Details:\nDate: Feb 28- March 1\, 2026 \nVenue: Sentro Oftalmologico Jose Rizal\, Philippine General Hospital\, Taft Avenue\, Manila \nRegistration Link: https://docs.google.com/forms/d/e/1FAIpQLSeriwPc2rwuHCC9kVQr7dnBaUq-3YQoNfhD_lBnUFytIxa5iQ/viewform
URL:https://pao.org.ph/eye-doctors-home-event/up-pgh-basic-course-in-phacoemulsification-2026-65th-anniversary-special-edition/
END:VEVENT
BEGIN:VEVENT
DTSTART;VALUE=DATE:20260311
DTEND;VALUE=DATE:20260312
DTSTAMP:20260422T123148
CREATED:20260120T090312Z
LAST-MODIFIED:20260120T090447Z
UID:17782-1773187200-1773273599@pao.org.ph
SUMMARY:PAO LEAP
DESCRIPTION:Event Details:\nDate: March 11\, 2026 \nRegistration Link: TBA
URL:https://pao.org.ph/eye-doctors-home-event/17782/
END:VEVENT
BEGIN:VEVENT
DTSTART;VALUE=DATE:20260314
DTEND;VALUE=DATE:20260315
DTSTAMP:20260422T123148
CREATED:20260120T101504Z
LAST-MODIFIED:20260120T101504Z
UID:17812-1773446400-1773532799@pao.org.ph
SUMMARY:Glaucoma: Core Principles for your Practice
DESCRIPTION:Event Details:\nDate: March 14\, 2026 \nVenue: Henry Sy Auditorium\, St Luke’s Global City\, Taguig \nRegistration Link: https://docs.google.com/forms/d/e/1FAIpQLSewnN00l2l7ruUtXrzDtA-Kzg30ZF3x42jn_r6yqsKg8ut2Jg/viewform
URL:https://pao.org.ph/eye-doctors-home-event/glaucoma-core-principles-for-your-practice/
END:VEVENT
BEGIN:VEVENT
DTSTART;TZID=Asia/Manila:20260321T180000
DTEND;TZID=Asia/Manila:20260321T180000
DTSTAMP:20260422T123148
CREATED:20260304T024237Z
LAST-MODIFIED:20260304T024237Z
UID:17893-1774116000-1774116000@pao.org.ph
SUMMARY:PSOPRS Fellows Surgical Video Presentation
DESCRIPTION:Event Details:\nDate: March 21\, 2026 6 PM \nRegistration Link: https://qrco.de/PSOPRSVideoCon
URL:https://pao.org.ph/eye-doctors-home-event/psoprs-fellows-surgical-video-presentation/
END:VEVENT
BEGIN:VEVENT
DTSTART;TZID=Asia/Manila:20260322T080000
DTEND;TZID=Asia/Manila:20260322T150000
DTSTAMP:20260422T123148
CREATED:20260304T024755Z
LAST-MODIFIED:20260304T024841Z
UID:17899-1774166400-1774191600@pao.org.ph
SUMMARY:Must kNOw: Basics to Clinical Correlation Neuro-Ophthalmology Basic Course
DESCRIPTION:Event Details:\nDate: March 22\, 2026 8 AM to 3 PM \nVenue: Asian Hospital and Medical Center Conference Facility Unit\, Upper Ground Floor\, Tower 1\, Asian Hospital and Medical Center\, Alabang\, Muntinlupa \nRegistration Link: https://docs.google.com/forms/d/e/1FAIpQLSdIpaOz2ktPSX4lec8ZEq2esX5QwPE6bHdtzeq6pOmJC3FzFw/viewform?usp=publish-editor
URL:https://pao.org.ph/eye-doctors-home-event/must-know-basics-to-clinical-correlation-neuro-ophthalmology-basic-course/
END:VEVENT
BEGIN:VEVENT
DTSTART;VALUE=DATE:20260327
DTEND;VALUE=DATE:20260330
DTSTAMP:20260422T123148
CREATED:20251104T122145Z
LAST-MODIFIED:20251104T122145Z
UID:17648-1774569600-1774828799@pao.org.ph
SUMMARY:FujiRetina
DESCRIPTION:Event Details:\nDate: March 27-29\, 2026 \nVenue: Toranomon Hills Forum\, Tokyo\, Japan \nRegistration Link: https://convention.jtbcom.co.jp/fujiretina/registration/index.html
URL:https://pao.org.ph/eye-doctors-home-event/fujiretina/
END:VEVENT
END:VCALENDAR