BEGIN:VCALENDAR
VERSION:2.0
PRODID:-//Philippine Academy of Ophthalmology - ECPv6.15.20//NONSGML v1.0//EN
CALSCALE:GREGORIAN
METHOD:PUBLISH
X-ORIGINAL-URL:https://pao.org.ph
X-WR-CALDESC:Events for Philippine Academy of Ophthalmology
REFRESH-INTERVAL;VALUE=DURATION:PT1H
X-Robots-Tag:noindex
X-PUBLISHED-TTL:PT1H
BEGIN:VTIMEZONE
TZID:Asia/Manila
BEGIN:STANDARD
TZOFFSETFROM:+0800
TZOFFSETTO:+0800
TZNAME:PST
DTSTART:20240101T000000
END:STANDARD
END:VTIMEZONE
BEGIN:VEVENT
DTSTART;VALUE=DATE:20250308
DTEND;VALUE=DATE:20250309
DTSTAMP:20260423T082936
CREATED:20250201T125530Z
LAST-MODIFIED:20250204T115809Z
UID:17332-1741392000-1741478399@pao.org.ph
SUMMARY:Masterclass in Orbital Fracture Reconstruction
DESCRIPTION:Event Details:\nDate: March 8\, 2025 Saturday \nVenue: St. Lukes Medical Center- Global City\, BGC\, Taguig City \nRegistration Link: https://apsoprsmasterclass.weebly.com/register-here.html
URL:https://pao.org.ph/eye-doctors-home-event/masterclass-in-orbital-fracture-reconstruction/
END:VEVENT
BEGIN:VEVENT
DTSTART;VALUE=DATE:20250309
DTEND;VALUE=DATE:20250316
DTSTAMP:20260423T082936
CREATED:20241023T020745Z
LAST-MODIFIED:20241107T141410Z
UID:17156-1741478400-1742083199@pao.org.ph
SUMMARY:World Glaucoma Week
DESCRIPTION:Event Details:\nDate and Time: March 9\, 2025 – March 15\, 2025
URL:https://pao.org.ph/eye-doctors-home-event/world-glaucoma-week/
END:VEVENT
BEGIN:VEVENT
DTSTART;TZID=Asia/Manila:20250309T173000
DTEND;TZID=Asia/Manila:20250309T173000
DTSTAMP:20260423T082936
CREATED:20250308T041219Z
LAST-MODIFIED:20250308T044635Z
UID:17403-1741541400-1741541400@pao.org.ph
SUMMARY:NOSP 25th at 2025: Neuro-Ophthalmology Webinar Series: Nystagmus and Its Management
DESCRIPTION:Event Details:\nDate: March 9\, 2025 17:30H \nRegistration Link: https://youtube.com/@25yearsnosp?si=Kavxs5Akbw-n0hTq
URL:https://pao.org.ph/eye-doctors-home-event/nosp-25th-at-2025-neuro-ophthalmology-webinar-series-nystagmus-and-its-management/
END:VEVENT
BEGIN:VEVENT
DTSTART;TZID=Asia/Manila:20250319T180000
DTEND;TZID=Asia/Manila:20250319T180000
DTSTAMP:20260423T082936
CREATED:20250308T041813Z
LAST-MODIFIED:20250308T041813Z
UID:17406-1742407200-1742407200@pao.org.ph
SUMMARY:PAO LEAP: Updates on Glaucoma Devices and Lasers in the Local Setting
DESCRIPTION:Event Details:\nDate: March 19\, 2025 6:00 PM \nVenue: Ledesma Hall\, 9th Floor\, Tower 2\, Makati Medical Center \nRegistration Link: https://us02web.zoom.us/webinar/register/WN_C-Tl7BJRRU6fmxvuUNGRDg#/registration
URL:https://pao.org.ph/eye-doctors-home-event/pao-leap-updates-on-glaucoma-devices-and-lasers-in-the-local-setting/
END:VEVENT
BEGIN:VEVENT
DTSTART;TZID=Asia/Manila:20250326T183000
DTEND;TZID=Asia/Manila:20250326T183000
DTSTAMP:20260423T082936
CREATED:20250325T063609Z
LAST-MODIFIED:20250325T063609Z
UID:17509-1743013800-1743013800@pao.org.ph
SUMMARY:PSOPRS Round Table Discussion
DESCRIPTION:Event Details:\nDate: March 26\, 2025 6:30 PM \nVenue: 8th Floor Auditorium\, Tower 2\, Makati Medical Center \nZoom Registration: https://us02web.zoom.us/webinar/register/WN_Iy3cVeNKQjyYt3K3jdGdaA#/registration \nOn Site Registration: https://forms.gle/bYZJ2Ufr7hqmbUzbA
URL:https://pao.org.ph/eye-doctors-home-event/psoprs-round-table-discussion-3/
END:VEVENT
BEGIN:VEVENT
DTSTART;TZID=Asia/Manila:20250329T080000
DTEND;TZID=Asia/Manila:20250329T170000
DTSTAMP:20260423T082936
CREATED:20250218T091944Z
LAST-MODIFIED:20250218T091944Z
UID:17345-1743235200-1743267600@pao.org.ph
SUMMARY:MCU Ophthalmology 6th Postgraduate Course Optics Unveiled: Bridging Theory & Practice in Refraction
DESCRIPTION:Event Details:\nDate: March 29\, 2025 (Saturday) 8:00 AM- 5:00 PM \nVenue: Helix Auditorium\, Manila Central University\, EDSA\, Caloocan City \nRegistration Link: https://docs.google.com/forms/d/e/1FAIpQLSeeba7nsKKiQYG8MvZTx7fu8GDKo2p3GFqqRle9BMr7qsojng/viewform
URL:https://pao.org.ph/eye-doctors-home-event/mcu-ophthalmology-6th-postgraduate-course-optics-unveiled-bridging-theory-practice-in-refraction/
END:VEVENT
END:VCALENDAR