BEGIN:VCALENDAR
VERSION:2.0
PRODID:-//Philippine Academy of Ophthalmology - ECPv6.15.20//NONSGML v1.0//EN
CALSCALE:GREGORIAN
METHOD:PUBLISH
X-WR-CALNAME:Philippine Academy of Ophthalmology
X-ORIGINAL-URL:https://pao.org.ph
X-WR-CALDESC:Events for Philippine Academy of Ophthalmology
REFRESH-INTERVAL;VALUE=DURATION:PT1H
X-Robots-Tag:noindex
X-PUBLISHED-TTL:PT1H
BEGIN:VTIMEZONE
TZID:Asia/Manila
BEGIN:STANDARD
TZOFFSETFROM:+0800
TZOFFSETTO:+0800
TZNAME:PST
DTSTART:20240101T000000
END:STANDARD
END:VTIMEZONE
BEGIN:VEVENT
DTSTART;VALUE=DATE:20250625
DTEND;VALUE=DATE:20250629
DTSTAMP:20260423T045612
CREATED:20241009T134458Z
LAST-MODIFIED:20250605T075508Z
UID:17144-1750809600-1751155199@pao.org.ph
SUMMARY:11th World Glaucoma Congress
DESCRIPTION:Event Details:\nDate: June 25\, 2025 – June 28\, 2025 \nVenue: Honolulu\, Hawaii\, USA \nRegistration Link: https://worldglaucomacongress.org/registration/
URL:https://pao.org.ph/eye-doctors-home-event/11th-world-glaucoma-congress/
LOCATION:Honolulu\, Hawaii\, USA
END:VEVENT
END:VCALENDAR